BEGIN:VCALENDAR
VERSION:2.0
PRODID:-//Squarespace Inc/Squarespace 6//v6//EN
BEGIN:VEVENT
UID:57467afb27d4bda66c3d1716@squarespace.com
DTSTAMP:20160817T023649Z
DTSTART:20161009T195500Z
DTEND:20161009T195500Z
SUMMARY:Term 4 Begins
END:VEVENT
END:VCALENDAR
