BEGIN:VCALENDAR
VERSION:2.0
PRODID:-//Squarespace Inc/Squarespace 6//v6//EN
BEGIN:VEVENT
UID:57e323abe58c6232570a5f6d@squarespace.com
DTSTAMP:20160922T002537Z
DTSTART:20161031T203000Z
DTEND:20161031T213000Z
SUMMARY:School Athletics
END:VEVENT
END:VCALENDAR
