BEGIN:VCALENDAR
VERSION:2.0
PRODID:-//Squarespace Inc/Squarespace 6//v6//EN
BEGIN:VEVENT
UID:57467b2227d4bda66c3d17e1@squarespace.com
DTSTAMP:20160526T042724Z
DTSTART:20161111T033000Z
DTEND:20161111T043000Z
SUMMARY:Show Day: School Closed
END:VEVENT
END:VCALENDAR
