BEGIN:VCALENDAR
VERSION:2.0
PRODID:-//Squarespace Inc/Squarespace 6//v6//EN
BEGIN:VEVENT
UID:58476e4df7e0ab24d3337781@squarespace.com
DTSTAMP:20161207T022107Z
DTSTART:20161215T201500Z
DTEND:20161215T210000Z
SUMMARY:End of Year Assemblies
END:VEVENT
END:VCALENDAR
