BEGIN:VCALENDAR
VERSION:2.0
PRODID:-//Squarespace Inc/Squarespace 6//v6//EN
BEGIN:VEVENT
UID:57e3250f5016e12f880b111f@squarespace.com
DTSTAMP:20160922T002701Z
DTSTART:20161206T200000Z
DTEND:20161207T020000Z
SUMMARY:Canterbury Athletics
END:VEVENT
END:VCALENDAR
