BEGIN:VCALENDAR
VERSION:2.0
PRODID:-//Squarespace Inc/Squarespace 6//v6//EN
BEGIN:VEVENT
UID:5785c6eee6f2e141827f6fc4@squarespace.com
DTSTAMP:20160714T035349Z
DTSTART:20160720T213000Z
DTEND:20160720T223000Z
SUMMARY:Working Bee
END:VEVENT
END:VCALENDAR
