BEGIN:VCALENDAR
VERSION:2.0
PRODID:-//Squarespace Inc/Squarespace 6//v6//EN
BEGIN:VEVENT
UID:57467ad327d4bda66c3d1624@squarespace.com
DTSTAMP:20160713T044450Z
DTSTART:20160725T043000Z
DTEND:20160725T053000Z
SUMMARY:Term 3 Starts
END:VEVENT
END:VCALENDAR
