BEGIN:VCALENDAR
VERSION:2.0
PRODID:-//Squarespace Inc/Squarespace 6//v6//EN
BEGIN:VEVENT
UID:57a01d993e00be022d4bdaea@squarespace.com
DTSTAMP:20160817T024220Z
DTSTART:20160826T002500Z
DTEND:20160826T012500Z
SUMMARY:Subway For Lunch
END:VEVENT
END:VCALENDAR
