BEGIN:VCALENDAR
VERSION:2.0
PRODID:-//Squarespace Inc/Squarespace 6//v6//EN
BEGIN:VEVENT
UID:57a01d4a15d5dbfa9f205731@squarespace.com
DTSTAMP:20160802T041050Z
DTSTART:20160808T043000Z
DTEND:20160808T053000Z
SUMMARY:Book Fair
END:VEVENT
END:VCALENDAR
