BEGIN:VCALENDAR
VERSION:2.0
PRODID:-//Squarespace Inc/Squarespace 6//v6//EN
BEGIN:VEVENT
UID:57467af227d4bda66c3d16de@squarespace.com
DTSTAMP:20160817T023508Z
DTSTART:20160923T024500Z
DTEND:20160923T024500Z
SUMMARY:Term 3 Ends
END:VEVENT
END:VCALENDAR
