BEGIN:VCALENDAR
VERSION:2.0
PRODID:-//Squarespace Inc/Squarespace 6//v6//EN
BEGIN:VEVENT
UID:57b53a21b8a79b4f5b50181a@squarespace.com
DTSTAMP:20160821T222719Z
DTSTART:20160905T064500Z
DTEND:20160905T092000Z
SUMMARY:Kids for Kids - Horncastle Arena
END:VEVENT
END:VCALENDAR
