BEGIN:VCALENDAR
VERSION:2.0
PRODID:-//Squarespace Inc/Squarespace 6//v6//EN
BEGIN:VEVENT
UID:58473fa7e3df285de65826e2@squarespace.com
DTSTAMP:20161206T230950Z
DTSTART:20170129T200000Z
DTEND:20170130T020000Z
SUMMARY:Teacher Only Day
END:VEVENT
END:VCALENDAR
