BEGIN:VCALENDAR
VERSION:2.0
PRODID:-//Squarespace Inc/Squarespace 6//v6//EN
BEGIN:VEVENT
UID:5847446a4402433332458c5b@squarespace.com
DTSTAMP:20161206T230816Z
DTSTART:20170131T200000Z
DTEND:20170201T014500Z
SUMMARY:Term 1 begins 2017
END:VEVENT
END:VCALENDAR
