BEGIN:VCALENDAR
VERSION:2.0
PRODID:-//Squarespace Inc/Squarespace 6//v6//EN
BEGIN:VEVENT
UID:589905c0f7e0abb25ad7c292@squarespace.com
DTSTAMP:20170206T232714Z
DTSTART:20170213T030000Z
DTEND:20170213T040000Z
SUMMARY:Touch Rugby Begins
END:VEVENT
END:VCALENDAR
