BEGIN:VCALENDAR
VERSION:2.0
PRODID:-//Squarespace Inc/Squarespace 6//v6//EN
BEGIN:VEVENT
UID:589239988419c296c3c5d139@squarespace.com
DTSTAMP:20170201T194743Z
DTSTART:20170212T193000Z
DTEND:20170212T203000Z
SUMMARY:Y7/8 Technology
END:VEVENT
END:VCALENDAR
