BEGIN:VCALENDAR
VERSION:2.0
PRODID:-//Squarespace Inc/Squarespace 6//v6//EN
BEGIN:VEVENT
UID:589a37cdc534a5e55a22eab8@squarespace.com
DTSTAMP:20170207T211223Z
DTSTART:20170220T051500Z
DTEND:20170220T061500Z
SUMMARY:Meet the Teacher and Team Evening Ys1 & 2
END:VEVENT
END:VCALENDAR
