BEGIN:VCALENDAR
VERSION:2.0
PRODID:-//Squarespace Inc/Squarespace 6//v6//EN
BEGIN:VEVENT
UID:58ab999720099e0b1251ad5c@squarespace.com
DTSTAMP:20170221T013901Z
DTSTART:20170221T210000Z
DTEND:20170221T213000Z
SUMMARY:Library Visits Rm 12
END:VEVENT
END:VCALENDAR
