BEGIN:VCALENDAR
VERSION:2.0
PRODID:-//Squarespace Inc/Squarespace 6//v6//EN
BEGIN:VEVENT
UID:589236066b8f5b4490d4dcf8@squarespace.com
DTSTAMP:20170201T192947Z
DTSTART:20170205T193000Z
DTEND:20170205T203000Z
SUMMARY:Waitangi Day
END:VEVENT
END:VCALENDAR
