BEGIN:VCALENDAR
VERSION:2.0
PRODID:-//Squarespace Inc/Squarespace 6//v6//EN
BEGIN:VEVENT
UID:58a6480abe6594d06ad1e159@squarespace.com
DTSTAMP:20170217T004843Z
DTSTART:20170724T020000Z
DTEND:20170724T030000Z
SUMMARY:Term 3 Begins
END:VEVENT
END:VCALENDAR
