BEGIN:VCALENDAR
VERSION:2.0
PRODID:-//Squarespace Inc/Squarespace 6//v6//EN
BEGIN:VEVENT
UID:5910ed859f7456380c6b3631@squarespace.com
DTSTAMP:20170508T221914Z
DTSTART:20170723T203000Z
DTEND:20170724T013000Z
SUMMARY:Year 7/8 Technology
END:VEVENT
END:VCALENDAR
