BEGIN:VCALENDAR
VERSION:2.0
PRODID:-//Squarespace Inc/Squarespace 6//v6//EN
BEGIN:VEVENT
UID:5893d7e72994ca737e3adb1c@squarespace.com
DTSTAMP:20170203T010920Z
DTSTART:20170704T060000Z
DTEND:20170704T070000Z
SUMMARY:Dancing Like the Stars Isaac Theatre Rms 12/13
END:VEVENT
END:VCALENDAR
