BEGIN:VCALENDAR
VERSION:2.0
PRODID:-//Squarespace Inc/Squarespace 6//v6//EN
BEGIN:VEVENT
UID:5946f68959cc68025725a475@squarespace.com
DTSTAMP:20170618T220110Z
DTSTART:20170705T030000Z
DTEND:20170705T080000Z
SUMMARY:Parent Learning Conferences
END:VEVENT
END:VCALENDAR
