BEGIN:VCALENDAR
VERSION:2.0
PRODID:-//Squarespace Inc/Squarespace 6//v6//EN
BEGIN:VEVENT
UID:5946f785d2b857108957fb6f@squarespace.com
DTSTAMP:20170618T215923Z
DTSTART:20170706T030000Z
DTEND:20170706T080000Z
SUMMARY:Parent Learning Conferences
END:VEVENT
END:VCALENDAR
