BEGIN:VCALENDAR
VERSION:2.0
PRODID:-//Squarespace Inc/Squarespace 6//v6//EN
BEGIN:VEVENT
UID:58a647cc725e2541adf791db@squarespace.com
DTSTAMP:20170217T004653Z
DTSTART:20170707T090000Z
DTEND:20170707T100000Z
SUMMARY:Term 2 Ends
END:VEVENT
END:VCALENDAR
