BEGIN:VCALENDAR
VERSION:2.0
PRODID:-//Squarespace Inc/Squarespace 6//v6//EN
BEGIN:VEVENT
UID:598cf1dca803bb99c5d58a7d@squarespace.com
DTSTAMP:20170810T235914Z
DTSTART:20170822T000000Z
DTEND:20170822T023000Z
SUMMARY:Bottle Lake Visit -  Room 2
END:VEVENT
END:VCALENDAR
