BEGIN:VCALENDAR
VERSION:2.0
PRODID:-//Squarespace Inc/Squarespace 6//v6//EN
BEGIN:VEVENT
UID:5939caa51b10e3a9a75da1b7@squarespace.com
DTSTAMP:20170608T221105Z
DTSTART:20170816T063000Z
DTEND:20170816T093000Z
SUMMARY:Cultural Festival 
END:VEVENT
END:VCALENDAR
