BEGIN:VCALENDAR
VERSION:2.0
PRODID:-//Squarespace Inc/Squarespace 6//v6//EN
BEGIN:VEVENT
UID:598cf0e1ff7c50db1fbb2fec@squarespace.com
DTSTAMP:20170810T235027Z
DTSTART:20170820T211500Z
DTEND:20170820T233000Z
SUMMARY:Waimairi Beach Visit Rm 12&13
END:VEVENT
END:VCALENDAR
