BEGIN:VCALENDAR
VERSION:2.0
PRODID:-//Squarespace Inc/Squarespace 6//v6//EN
BEGIN:VEVENT
UID:5910ef1b579fb38f0d8892e2@squarespace.com
DTSTAMP:20170508T222058Z
DTSTART:20170820T203000Z
DTEND:20170821T013000Z
SUMMARY:Year 7/8 Technology
END:VEVENT
END:VCALENDAR
