BEGIN:VCALENDAR
VERSION:2.0
PRODID:-//Squarespace Inc/Squarespace 6//v6//EN
BEGIN:VEVENT
UID:598cf156d2b85727598e20ce@squarespace.com
DTSTAMP:20170810T235508Z
DTSTART:20170821T211500Z
DTEND:20170821T234500Z
SUMMARY:Bottle Lake Visit Room 1 
END:VEVENT
END:VCALENDAR
