BEGIN:VCALENDAR
VERSION:2.0
PRODID:-//Squarespace Inc/Squarespace 6//v6//EN
BEGIN:VEVENT
UID:598cf2863e00be72930be20c@squarespace.com
DTSTAMP:20170810T235737Z
DTSTART:20170822T211500Z
DTEND:20170822T233000Z
SUMMARY:Waimairi Beach Visit - Room 14 & 15
END:VEVENT
END:VCALENDAR
