BEGIN:VCALENDAR
VERSION:2.0
PRODID:-//Squarespace Inc/Squarespace 6//v6//EN
BEGIN:VEVENT
UID:598cf377d7bdce77a7b2476f@squarespace.com
DTSTAMP:20170811T000107Z
DTSTART:20170823T001500Z
DTEND:20170823T023000Z
SUMMARY:Waimairi Beach  Visit  - Room 17 & 18
END:VEVENT
END:VCALENDAR
