BEGIN:VCALENDAR
VERSION:2.0
PRODID:-//Squarespace Inc/Squarespace 6//v6//EN
BEGIN:VEVENT
UID:598cf3dd17bffc0a9a3866b0@squarespace.com
DTSTAMP:20170811T000230Z
DTSTART:20170823T211500Z
DTEND:20170823T234500Z
SUMMARY:Bottle Lake Visit - Room 3
END:VEVENT
END:VCALENDAR
