BEGIN:VCALENDAR
VERSION:2.0
PRODID:-//Squarespace Inc/Squarespace 6//v6//EN
BEGIN:VEVENT
UID:598cf448be42d6a02542d259@squarespace.com
DTSTAMP:20170811T000445Z
DTSTART:20170824T000000Z
DTEND:20170824T023000Z
SUMMARY:Bottle Lake Visit - Room 4 & 5
END:VEVENT
END:VCALENDAR
