BEGIN:VCALENDAR
VERSION:2.0
PRODID:-//Squarespace Inc/Squarespace 6//v6//EN
BEGIN:VEVENT
UID:598cdbb9e45a7c7d97d67ec5@squarespace.com
DTSTAMP:20170810T233743Z
DTSTART:20170823T210000Z
DTEND:20170824T003000Z
SUMMARY:Canterbury Primary Winter Tournament Year 5/6 Netball Team
END:VEVENT
END:VCALENDAR
