BEGIN:VCALENDAR
VERSION:2.0
PRODID:-//Squarespace Inc/Squarespace 6//v6//EN
BEGIN:VEVENT
UID:598cf4b3b8a79bbc20436c81@squarespace.com
DTSTAMP:20170811T000625Z
DTSTART:20170824T211500Z
DTEND:20170824T234500Z
SUMMARY:Bottle Lake Visit - Room 6
END:VEVENT
END:VCALENDAR
