BEGIN:VCALENDAR
VERSION:2.0
PRODID:-//Squarespace Inc/Squarespace 6//v6//EN
BEGIN:VEVENT
UID:598cf51c893fc063dd71e66b@squarespace.com
DTSTAMP:20170811T000826Z
DTSTART:20170827T211500Z
DTEND:20170828T000000Z
SUMMARY:Travis Wetlands Visit - Room 7
END:VEVENT
END:VCALENDAR
