BEGIN:VCALENDAR
VERSION:2.0
PRODID:-//Squarespace Inc/Squarespace 6//v6//EN
BEGIN:VEVENT
UID:597e5760f7e0ab110db5c137@squarespace.com
DTSTAMP:20170730T220319Z
DTSTART:20170806T203000Z
DTEND:20170810T210000Z
SUMMARY:Book Fair
END:VEVENT
END:VCALENDAR
