BEGIN:VCALENDAR
VERSION:2.0
PRODID:-//Squarespace Inc/Squarespace 6//v6//EN
BEGIN:VEVENT
UID:5941ead837c581fa3a8a4cd0@squarespace.com
DTSTAMP:20170615T020736Z
DTSTART:20170807T023000Z
DTEND:20170811T090000Z
SUMMARY:Scholastic Book Fair
END:VEVENT
END:VCALENDAR
