BEGIN:VCALENDAR
VERSION:2.0
PRODID:-//Squarespace Inc/Squarespace 6//v6//EN
BEGIN:VEVENT
UID:5910ede159cc680d38745fc3@squarespace.com
DTSTAMP:20170508T221549Z
DTSTART:20170806T203000Z
DTEND:20170807T013000Z
SUMMARY:Year 7/8 Technology
END:VEVENT
END:VCALENDAR
