BEGIN:VCALENDAR
VERSION:2.0
PRODID:-//Squarespace Inc/Squarespace 6//v6//EN
BEGIN:VEVENT
UID:598cdaf18419c28ff7e5f787@squarespace.com
DTSTAMP:20170810T221804Z
DTSTART:20170808T213000Z
DTEND:20170809T000000Z
SUMMARY:Canterbury Primary Winter Tournament Year 5/6 Netball
END:VEVENT
END:VCALENDAR
